BEGIN:VCALENDAR
VERSION:2.0
PRODID:-//Santa Casa da Misericórdia de Albufeira - ECPv6.15.20//NONSGML v1.0//EN
CALSCALE:GREGORIAN
METHOD:PUBLISH
X-WR-CALNAME:Santa Casa da Misericórdia de Albufeira
X-ORIGINAL-URL:https://www.misericordiaalbufeira.com
X-WR-CALDESC:Eventos para Santa Casa da Misericórdia de Albufeira
REFRESH-INTERVAL;VALUE=DURATION:PT1H
X-Robots-Tag:noindex
X-PUBLISHED-TTL:PT1H
BEGIN:VTIMEZONE
TZID:UTC
BEGIN:STANDARD
TZOFFSETFROM:+0000
TZOFFSETTO:+0000
TZNAME:UTC
DTSTART:20250101T000000
END:STANDARD
END:VTIMEZONE
BEGIN:VEVENT
DTSTART;VALUE=DATE:20260408
DTEND;VALUE=DATE:20260501
DTSTAMP:20260419T145402
CREATED:20260326T102545Z
LAST-MODIFIED:20260409T131922Z
UID:33051-1775606400-1777593599@www.misericordiaalbufeira.com
SUMMARY:Formação em Sistemas HACCP (Hazard Analysis and Critical Control Points) (UFCD 3297)
DESCRIPTION:O sistema HACCP (Hazard Analysis and Critical Control Points) baseia-se numa metodologia preventiva que visa evitar potenciais riscos para os consumidores\, através da eliminação ou redução de perigos ao longo do processo produtivo. Esta formação capacita os participantes para implementar e manter um sistema eficaz de segurança alimentar\, garantindo que apenas alimentos seguros são disponibilizados ao consumidor. \n  \nObjetivos da Formação \n\nAplicar os princípios de análise de perigos e controlo de pontos críticos no processo produtivo alimentar\nAssegurar a implementação de boas práticas no âmbito da segurança alimentar\nRealizar a manutenção dos processos associados ao sistema HACCP\nIdentificar e prevenir riscos que possam comprometer a qualidade dos géneros alimentícios\n\n  \nPorquê esta UFCD? \nPorque a segurança alimentar é uma exigência fundamental em setores como restauração\, hotelaria\, indústria alimentar e distribuição. A aplicação do sistema HACCP permite prevenir contaminações\, garantir a conformidade legal e reforçar a confiança dos consumidores. \n  \nDestinatários \nAdultos ≥18 anos; excecionalmente jovens inseridos no mercado de trabalho ou em situação de vulnerabilidade social devidamente enquadrada. Formação acessível a participantes individuais ou empresas. \n  \nInformações \nModalidade: B-learning ou presencial\n• Duração: 25 horas\n• Horário: Flexível\n• Início previsto: 8 de abril\n• Pré-inscrição obrigatória | Vagas limitadas \n  \nMais informações disponíveis no seguinte link. \nPré-inscrições realizadas através do formulário oficial disponível aqui.
URL:https://www.misericordiaalbufeira.com/evento/formacao-em-sistemas-haccp-hazard-analysis-and-critical-control-points-ufcd-3297/
LOCATION:A definir
ATTACH;FMTTYPE=image/png:https://www.misericordiaalbufeira.com/wp-content/uploads/6-2.png
END:VEVENT
BEGIN:VEVENT
DTSTART;TZID=UTC:20260416T140000
DTEND;TZID=UTC:20260428T090000
DTSTAMP:20260419T145402
CREATED:20260326T104119Z
LAST-MODIFIED:20260409T132043Z
UID:33057-1776348000-1777366800@www.misericordiaalbufeira.com
SUMMARY:Formação em Primeiros Socorros (UFCD 3564)
DESCRIPTION:  \n  \n  \n  \n  \n  \n  \n  \n  \n  \nA prestação de primeiros socorros é essencial para agir de forma rápida e eficaz em situações de emergência\, podendo reduzir o sofrimento\, evitar complicações e\, em muitos casos\, salvar vidas. Esta formação capacita os participantes com conhecimentos básicos e práticos para intervir corretamente até à chegada de ajuda especializada. \n  \nObjetivos da Formação \n\nIdentificar os diferentes tipos de acidentes\nReconhecer o papel e funcionamento do serviço nacional de proteção civil\nCompreender a importância da prevenção de acidentes e doenças profissionais\nAplicar técnicas básicas de primeiros socorros em situações de emergência\n\n  \nPorquê esta UFCD? \nPorque saber agir nos primeiros minutos de uma emergência pode fazer toda a diferença. Esta formação permite adquirir competências essenciais para prestar assistência imediata\, contribuindo para a segurança em contexto pessoal e profissional. \n  \nDestinatários \nAdultos ≥18 anos; excecionalmente jovens inseridos no mercado de trabalho ou em situação de vulnerabilidade social devidamente enquadrada. Formação acessível a participantes individuais ou empresas. \n  \nInformações \nModalidade: B-learning ou presencial\n• Duração: 25 horas\n• Horário: Flexível\n• Início previsto: 16 de abril\n• Pré-inscrição obrigatória | Vagas limitadas \n  \nMais informações disponíveis no seguinte link. \nPré-inscrições realizadas através do formulário oficial disponível aqui.
URL:https://www.misericordiaalbufeira.com/evento/formacao-em-primeiros-socorros-ufcd-3564/
LOCATION:A definir
ATTACH;FMTTYPE=image/png:https://www.misericordiaalbufeira.com/wp-content/uploads/7-2.png
END:VEVENT
BEGIN:VEVENT
DTSTART;VALUE=DATE:20260417
DTEND;VALUE=DATE:20260601
DTSTAMP:20260419T145402
CREATED:20260326T104850Z
LAST-MODIFIED:20260327T162217Z
UID:33061-1776384000-1780271999@www.misericordiaalbufeira.com
SUMMARY:Formação em Processos e Métodos de Proteção Fitossanitária e de Aplicação de Produtos Fitofarmacêuticos (UFCD 6281)
DESCRIPTION:  \nA utilização correta de produtos fitofarmacêuticos é fundamental para garantir a proteção das culturas\, a segurança dos aplicadores e a preservação do ambiente. Esta formação capacita os participantes para aplicar estes produtos de forma segura\, eficaz e em conformidade com os requisitos legais e as boas práticas fitossanitárias. \n  \nObjetivos da Formação \n\nAplicar produtos fitofarmacêuticos de acordo com as normas de segurança e legislação em vigor\nIdentificar riscos associados à utilização e manuseamento destes produtos\nAdotar medidas de proteção individual e ambiental\nGerir corretamente o armazenamento\, transporte e eliminação de resíduos e embalagens\n\n  \nPorquê esta UFCD? \nPorque a utilização de produtos fitofarmacêuticos exige conhecimentos técnicos e responsabilidade ambiental. Esta formação permite adquirir competências essenciais para uma aplicação segura e sustentável\, assegurando o cumprimento das obrigações legais e a proteção da saúde pública e do meio ambiente. \n  \nDestinatários \nAdultos ≥18 anos; excecionalmente jovens inseridos no mercado de trabalho ou em situação de vulnerabilidade social devidamente enquadrada. Formação acessível a participantes individuais ou empresas. \n  \nInformações \nModalidade: Presencial ou B-learning\n• Duração: 50 horas\n• Horário: Flexível\n• Cronograma: A definir\n• Pré-inscrição obrigatória | Vagas limitadas \n  \nMais informações disponíveis no seguinte link. \nPré-inscrições realizadas através do formulário oficial disponível aqui. \n 
URL:https://www.misericordiaalbufeira.com/evento/processos-e-metodos-de-protecao-fitossanitaria-e-de-aplicacao-de-produtos-fitofarmaceuticos-ufcd-6281/
LOCATION:A definir
ATTACH;FMTTYPE=image/png:https://www.misericordiaalbufeira.com/wp-content/uploads/UFCD-6281-Fitofarmaceuticos_Miniatura.png
END:VEVENT
END:VCALENDAR