BEGIN:VCALENDAR
VERSION:2.0
PRODID:-//Santa Casa da Misericórdia de Albufeira - ECPv6.15.20//NONSGML v1.0//EN
CALSCALE:GREGORIAN
METHOD:PUBLISH
X-ORIGINAL-URL:https://www.misericordiaalbufeira.com
X-WR-CALDESC:Eventos para Santa Casa da Misericórdia de Albufeira
REFRESH-INTERVAL;VALUE=DURATION:PT1H
X-Robots-Tag:noindex
X-PUBLISHED-TTL:PT1H
BEGIN:VTIMEZONE
TZID:UTC
BEGIN:STANDARD
TZOFFSETFROM:+0000
TZOFFSETTO:+0000
TZNAME:UTC
DTSTART:20240101T000000
END:STANDARD
END:VTIMEZONE
BEGIN:VEVENT
DTSTART;VALUE=DATE:20250107
DTEND;VALUE=DATE:20260101
DTSTAMP:20260419T164807
CREATED:20250107T124848Z
LAST-MODIFIED:20250109T160135Z
UID:28937-1736208000-1767225599@www.misericordiaalbufeira.com
SUMMARY:Campanha de reciclagem: recolha de tampas
DESCRIPTION:O Gabinete de Inserção Social (GIS) da Misericórdia de Albufeira promove uma campanha de reciclagem que alia preocupações ambientais com solidariedade. A campanha tem por objetivo a recolha de tampinhas de plástico\, que depois de serem enviadas para empresas de reciclagem\, permitem obter fundos para a aquisição de equipamento de ajudas técnicas para pessoas necessitadas. \nComo posso participar? \nEsta campanha é uma oportunidade para que\, com um pequeno gesto\, cada pessoa possa desempenhar um papel essencial na luta contra a exclusão social. Qualquer pessoa pode contribuir\, entregando nas instalações do GIS\, em Vale Paraíso\, as tampinhas que já não precisa. \nAs tampinhas a entregar devem ser obrigatoriamente de plástico (tampas de embalagens em Polietileno de alta densidade e em Polipropileno)\, preferencialmente de líquidos alimentares (águas\, sumos\, champôs\, detergentes\, amaciadores ou de outro tipo de embalagens similares). \nLocal de entrega: \n Urbanização Serves Fase 8\, Armazéns H e I \, Vale Paraíso\, 8200 – 567 – Albufeira \nAgradecemos desde já a sua solidariedade! \nPara mais informações contacte-nos via: 963431789 | gis@scmalbufeira.com  \n 
URL:https://www.misericordiaalbufeira.com/evento/campanha-de-reciclagem-recolha-de-tampas/
LOCATION:Gabinete de Inserção Social (Vale Paraíso)
ATTACH;FMTTYPE=image/jpeg:https://www.misericordiaalbufeira.com/wp-content/uploads/c6d33453-3965-46ff-8f73-79577889ef81.jpg
END:VEVENT
END:VCALENDAR